BEGIN:VCALENDAR
VERSION:2.0
PRODID:-//DANA SNIPER - CLB Bắn Súng Thể Thao Đà Nẵng - ECPv6.15.20//NONSGML v1.0//EN
CALSCALE:GREGORIAN
METHOD:PUBLISH
X-WR-CALNAME:DANA SNIPER - CLB Bắn Súng Thể Thao Đà Nẵng
X-ORIGINAL-URL:https://danasniper.com
X-WR-CALDESC:Sự kiện cho DANA SNIPER - CLB Bắn Súng Thể Thao Đà Nẵng
REFRESH-INTERVAL;VALUE=DURATION:PT1H
X-Robots-Tag:noindex
X-PUBLISHED-TTL:PT1H
BEGIN:VTIMEZONE
TZID:Asia/Ho_Chi_Minh
BEGIN:STANDARD
TZOFFSETFROM:+0700
TZOFFSETTO:+0700
TZNAME:+07
DTSTART:20240101T000000
END:STANDARD
END:VTIMEZONE
BEGIN:VEVENT
DTSTART;TZID=Asia/Ho_Chi_Minh:20251004T083000
DTEND;TZID=Asia/Ho_Chi_Minh:20251031T230000
DTSTAMP:20260420T124050
CREATED:20251004T142111Z
LAST-MODIFIED:20251004T142111Z
UID:7728-1759566600-1761951600@danasniper.com
SUMMARY:Check-in liền tay – Nhận quà ngay
DESCRIPTION:CLB Bắn súng thể thao Đà Nẵng – DANA SNIPER chính thức phát động chương trình thi ảnh check-in dành cho toàn bộ khách hàng khi đến trải nghiệm tại CLB. Đây là hoạt động đặc biệt nhằm mang đến những khoảnh khắc đáng nhớ\, gắn kết cộng đồng và tri ân khách hàng trong tháng 10/2025.
URL:https://danasniper.com/su-kien/check-in-lien-tay-nhan-qua-ngay/
END:VEVENT
BEGIN:VEVENT
DTSTART;TZID=Asia/Ho_Chi_Minh:20250804T083000
DTEND;TZID=Asia/Ho_Chi_Minh:20250831T230000
DTSTAMP:20260420T124050
CREATED:20250805T024657Z
LAST-MODIFIED:20250805T024748Z
UID:7628-1754296200-1756681200@danasniper.com
SUMMARY:DANA SNIPER - XẠ THỦ SO TÀI 2
DESCRIPTION:Giải đấu tháng 8 này mang đến 2 hạng mục giải thưởng độc lập\, tạo cơ hội cho mọi đối tượng khách hàng – từ tay súng thiện xạ đến người chơi chăm chỉ\, đam mê trải nghiệm.
URL:https://danasniper.com/su-kien/dana-sniper-xa-thu-so-tai-2/
LOCATION:Dana Sniper\, 42 Phan Đình Phùng\, Phường Hải Châu 1\, Quận Hải Châu\, Đà Nẵng\, Đà Nẵng\, Viet Nam
END:VEVENT
BEGIN:VEVENT
DTSTART;TZID=Asia/Ho_Chi_Minh:20250705T083000
DTEND;TZID=Asia/Ho_Chi_Minh:20250731T230000
DTSTAMP:20260420T124050
CREATED:20250704T025021Z
LAST-MODIFIED:20250704T025021Z
UID:7574-1751704200-1754002800@danasniper.com
SUMMARY:DANA SNIPER -XẠ THỦ SO TÀI
DESCRIPTION:Tháng 7 này\, Câu lạc bộ Bắn súng thể thao DANA SNIPER tự hào mang đến một sân chơi hấp dẫn và kịch tính dành cho cộng đồng yêu thích bộ môn bắn súng tại Đà Nẵng. Giải đấu “ DANA SNIPER – XẠ THỦ SO TÀI” chính thức khởi động\, mở ra cơ hội để các xạ thủ không chuyên giao lưu\, thử thách bản lĩnh và chinh phục những giải thưởng giá trị.
URL:https://danasniper.com/su-kien/dana-sniper-xa-thu-so-tai/
LOCATION:Dana Sniper\, 42 Phan Đình Phùng\, Phường Hải Châu 1\, Quận Hải Châu\, Đà Nẵng\, Đà Nẵng\, Viet Nam
ORGANIZER;CN="DANA SNIPER":MAILTO:danasniper24@gmail.com
END:VEVENT
BEGIN:VEVENT
DTSTART;TZID=Asia/Ho_Chi_Minh:20250606T080000
DTEND;TZID=Asia/Ho_Chi_Minh:20250629T230000
DTSTAMP:20260420T124050
CREATED:20250606T025905Z
LAST-MODIFIED:20250606T025905Z
UID:7526-1749196800-1751238000@danasniper.com
SUMMARY:Vòng Quay May Mắn
DESCRIPTION:Voucher GIẢM 100% và nhiều phần quà hấp dẫn khác đang chờ đón bạn.
URL:https://danasniper.com/su-kien/vong-quay-may-man/
LOCATION:Dana Sniper\, 42 Phan Đình Phùng\, Phường Hải Châu 1\, Quận Hải Châu\, Đà Nẵng\, Đà Nẵng\, Viet Nam
ORGANIZER;CN="DANA SNIPER":MAILTO:danasniper24@gmail.com
END:VEVENT
BEGIN:VEVENT
DTSTART;TZID=Asia/Ho_Chi_Minh:20250505T090000
DTEND;TZID=Asia/Ho_Chi_Minh:20250530T160000
DTSTAMP:20260420T124050
CREATED:20250513T031303Z
LAST-MODIFIED:20250602T104344Z
UID:7431-1746435600-1748620800@danasniper.com
SUMMARY:Giờ vàng Giá giảm
DESCRIPTION:🎉 HOT NEWS: “GIỜ VÀNG – GIÁ GIẢM” Đã Chính Thức Quay Trở Lại tại DANA SNIPER! ✨💰 \nChương trình ưu đãi được mong đợi nhất tháng 5 đã trở lại! Cơ hội vàng trải nghiệm Bắn súng thể thao chuyên nghiệp với chi phí cực kỳ hợp lý. \n✅ Thời gian: Thứ 2 – Thứ 6 hàng tuần\, từ 9h00 đến 16h00. ✅ Thời gian chương trình: Kéo dài đến hết ngày 30/05/2025. \n🎁 ƯU ĐÃI KHỦNG CHỈ TRONG KHUNG GIỜ VÀNG: \n\nGIẢM NGAY 15% trên tổng hóa đơn chơi bắn súng của bạn!\nTẶNG MIỄN PHÍ 01 LY NƯỚC CHANH MÁT LẠNH giải nhiệt! 🍋\n\n👉 Nhận ưu đãi SIÊU ĐƠN GIẢN với 3 bước “check-in” nhanh: \n\nQuan tâm Zalo OA DANA SNIPER.\nCheck-in FB & Đăng ảnh/status gắn thẻ @DANASNIPER.\nĐánh giá 5* trên Google Maps & review ngắn.\n\n>> CHI TIẾT CHƯƠNG TRÌNH \nĐừng bỏ lỡ! Ghé DANA SNIPER trong khung Giờ Vàng tháng 5 này ngay thôi! \nDANA SNIPER 📍 42 Phan Đình Phùng\, Hải Châu\, Đà Nẵng \n⏰ Mở cửa: 8:30 – 23:00 (Các ngày) \n📞 Hotline: 079 933 3983
URL:https://danasniper.com/su-kien/gio-vang-gia-giam/
LOCATION:Dana Sniper\, 42 Phan Đình Phùng\, Phường Hải Châu 1\, Quận Hải Châu\, Đà Nẵng\, Đà Nẵng\, Viet Nam
ORGANIZER;CN="DANA SNIPER":MAILTO:danasniper24@gmail.com
END:VEVENT
BEGIN:VEVENT
DTSTART;TZID=Asia/Ho_Chi_Minh:20250426T080000
DTEND;TZID=Asia/Ho_Chi_Minh:20250427T170000
DTSTAMP:20260420T124050
CREATED:20250328T000012Z
LAST-MODIFIED:20250401T103041Z
UID:230-1745654400-1745773200@danasniper.com
SUMMARY:Giải bắn súng thể thao Dana Sniper chào mừng 50 năm ngày thống nhất đất nước.
DESCRIPTION:🔥 Sẵn sàng ngắm bắn – Chinh phục thử thách! 🔥 \nNhân dịp kỷ niệm ngày Giải phóng miền Nam 30/4\, Dana Sniper hân hạnh tổ chức Giải Bắn Súng Thể Thao 2025 vào hai ngày 26 & 27/04/2025. Đây là cơ hội để các xạ thủ\, từ chuyên nghiệp đến nghiệp dư\, thử sức trong một sân chơi đầy kịch tính và hấp dẫn! \n🏆 Nội dung thi đấu:✅ Bắn súng thể thao cá nhân & đồng đội✅ Tranh tài với nhiều loại súng chuyên dụng✅ Hệ thống bảng điểm minh bạch\, công bằng \n🎯 Tại sao bạn không thể bỏ lỡ?✔️ Cơ hội thể hiện bản lĩnh\, kỹ năng ngắm bắn chuẩn xác✔️ Giao lưu\, học hỏi cùng các tay súng chuyên nghiệp✔️ Nhận giải thưởng giá trị và quà tặng hấp dẫn từ Dana Sniper \n📅 Thời gian: 26 – 27/04/2025📍 Địa điểm: Dana Sniper\, Đà Nẵng \n🔔 Đăng ký ngay hôm nay để trở thành một phần của giải đấu bắn súng thể thao lớn nhất tại Dana Sniper!📞 Liên hệ: 0799 333 983🌐 Website: https://danasniper.com \nHãy sẵn sàng lên nòng\, nhắm bắn và chinh phục thử thách! 🎯💥
URL:https://danasniper.com/su-kien/giai-ban-sung-the-thao-dana-sniper-2025/
LOCATION:Dana Sniper\, 42 Phan Đình Phùng\, Phường Hải Châu 1\, Quận Hải Châu\, Đà Nẵng\, Đà Nẵng\, Viet Nam
ATTACH;FMTTYPE=image/jpeg:https://danasniper.com/wp-content/uploads/2025/04/danasniper-cover-30042025.jpg
ORGANIZER;CN="DANA SNIPER":MAILTO:danasniper24@gmail.com
END:VEVENT
BEGIN:VEVENT
DTSTART;TZID=Asia/Ho_Chi_Minh:20250326T083000
DTEND;TZID=Asia/Ho_Chi_Minh:20250326T160000
DTSTAMP:20260420T124050
CREATED:20250327T012714Z
LAST-MODIFIED:20250328T102147Z
UID:1345-1742977800-1743004800@danasniper.com
SUMMARY:Chiic World Việt Nam - Team Building
DESCRIPTION:𝐂𝐀̉𝐌 𝐎̛𝐍 𝐂𝐎̂𝐍𝐆 𝐓𝐘 𝐓𝐍𝐇𝐇 𝐂𝐇𝐈𝐈𝐂 𝐖𝐎𝐑𝐋𝐃 𝐕𝐈𝐄̣̂𝐓 𝐍𝐀𝐌\nChân thành cảm ơn 𝐂𝐎̂𝐍𝐆 𝐓𝐘 𝐓𝐍𝐇𝐇 𝐂𝐇𝐈𝐈𝐂 𝐖𝐎𝐑𝐋𝐃 𝐕𝐈𝐄̣̂𝐓 𝐍𝐀𝐌 đã tin tưởng và lựa chọn 𝑪𝒂̂𝒖 𝒍𝒂̣𝒄 𝒃𝒐̣̂ 𝒃𝒂̆́𝒏 𝒔𝒖́𝒏𝒈 Đ𝒂̀ 𝑵𝒂̆̃𝒏𝒈 𝑫𝑨𝑵𝑨 𝑺𝑵𝑰𝑷𝑬𝑹 làm địa điểm tổ chức Team Building.\n\n\n Một ngày đầy kỷ niệm\, thử thách và gắn kết với các hoạt động hấp dẫn\, đầy sự kiện thú vị tại 𝐃𝐀𝐍𝐀 𝐒𝐍𝐈𝐏𝐄𝐑. Rất vui khi được đồng hành cùng các bạn trong hành trình xây dựng đội ngũ vững mạnh!\n\n\n Chúc 𝗖𝗢̂𝗡𝗚 𝗧𝗬 𝗧𝗡𝗛𝗛 𝗖𝗛𝗜𝗜𝗖 𝗪𝗢𝗥𝗟𝗗 𝗩𝗜𝗘̣̂𝗧 𝗡𝗔𝗠 ngày càng phát triển mạnh mẽ và đạt nhiều thành công!\n\n\n CẢM ƠN TEAM NHÂN VIÊN DANA SNIPER \nChúng tôi xin gửi lời cảm ơn chân thành đến Team nhân viên DANA SNIPER đã hoàn thành xuất sắc nhiệm vụ được giao. \n\n\n Mỗi thành viên trong đội đã cống hiến hết mình\, tạo nên những trải nghiệm tuyệt vời cho khách hàng trong suốt chương trình Team Building. Sự chuyên nghiệp\, nhiệt huyết và tinh thần đồng đội của các bạn là yếu tố quan trọng giúp sự kiện diễn ra suôn sẻ và thành công.\n\n\n Cảm ơn vì sự nỗ lực không ngừng của tất cả các bạn! Hãy cùng nhau tiếp tục vươn xa và chinh phục những thử thách mới trong tương lai!
URL:https://danasniper.com/su-kien/chiic-world-viet-nam-team-building/
LOCATION:Dana Sniper\, 42 Phan Đình Phùng\, Phường Hải Châu 1\, Quận Hải Châu\, Đà Nẵng\, Đà Nẵng\, Viet Nam
ATTACH;FMTTYPE=image/jpeg:https://danasniper.com/wp-content/uploads/2019/04/Event-TeamBuilding-ChiicWorldVietnam.jpg
ORGANIZER;CN="DANA SNIPER":MAILTO:danasniper24@gmail.com
END:VEVENT
END:VCALENDAR